BEGIN:VCALENDAR
VERSION:2.0
PRODID:ics
BEGIN:VEVENT
UID:69e75d073e3b8
DTSTART;TZID=Asia/Bangkok:20260515T000100
SEQUENCE:0
TRANSP:OPAQUE
DTEND;TZID=Asia/Bangkok:20260515T000100
SUMMARY:Analyst meeting - 1Q/2026
CLASS:PUBLIC
DTSTAMP:20260421T111831Z
END:VEVENT
END:VCALENDAR