BEGIN:VCALENDAR
VERSION:2.0
PRODID:ics
BEGIN:VEVENT
UID:69e75d11ab84d
DTSTART;TZID=Asia/Bangkok:20260515T000000
SEQUENCE:0
TRANSP:OPAQUE
DTEND;TZID=Asia/Bangkok:20260515T000000
SUMMARY:Opportunity Day - 1Q/2026
CLASS:PUBLIC
DTSTAMP:20260421T111841Z
END:VEVENT
END:VCALENDAR